BEGIN:VCALENDAR
VERSION:2.0
PRODID:-//New England Region Sports Car Club of America - ECPv6.15.20//NONSGML v1.0//EN
CALSCALE:GREGORIAN
METHOD:PUBLISH
X-ORIGINAL-URL:https://ner.org
X-WR-CALDESC:Events for New England Region Sports Car Club of America
REFRESH-INTERVAL;VALUE=DURATION:PT1H
X-Robots-Tag:noindex
X-PUBLISHED-TTL:PT1H
BEGIN:VTIMEZONE
TZID:America/New_York
BEGIN:DAYLIGHT
TZOFFSETFROM:-0500
TZOFFSETTO:-0400
TZNAME:EDT
DTSTART:20210314T070000
END:DAYLIGHT
BEGIN:STANDARD
TZOFFSETFROM:-0400
TZOFFSETTO:-0500
TZNAME:EST
DTSTART:20211107T060000
END:STANDARD
BEGIN:DAYLIGHT
TZOFFSETFROM:-0500
TZOFFSETTO:-0400
TZNAME:EDT
DTSTART:20220313T070000
END:DAYLIGHT
BEGIN:STANDARD
TZOFFSETFROM:-0400
TZOFFSETTO:-0500
TZNAME:EST
DTSTART:20221106T060000
END:STANDARD
BEGIN:DAYLIGHT
TZOFFSETFROM:-0500
TZOFFSETTO:-0400
TZNAME:EDT
DTSTART:20230312T070000
END:DAYLIGHT
BEGIN:STANDARD
TZOFFSETFROM:-0400
TZOFFSETTO:-0500
TZNAME:EST
DTSTART:20231105T060000
END:STANDARD
END:VTIMEZONE
BEGIN:VEVENT
DTSTART;VALUE=DATE:20221014
DTEND;VALUE=DATE:20221016
DTSTAMP:20260421T133011
CREATED:20211116T171430Z
LAST-MODIFIED:20220830T214033Z
UID:10000198-1665705600-1665878399@ner.org
SUMMARY:NERRC #8 - Championship Weekend
DESCRIPTION:Location:\nThompson Speedway \nRegistration:\nRegistration Link \nEntry List \nSchedule and Supps:\nRegional Entry Form \nRegional Supps \nResults\nOfficial Results
URL:https://ner.org/event/nerrc-8-championship-weekend/
LOCATION:Thompson Speedway Motorsports Park\, 205 E Thompson Rd\, Thompson\, CT 06277\, USA
CATEGORIES:NER Volunteer Supported,Road Racing
END:VEVENT
END:VCALENDAR