BEGIN:VCALENDAR
VERSION:2.0
PRODID:-//New England Region Sports Car Club of America - ECPv6.15.20//NONSGML v1.0//EN
CALSCALE:GREGORIAN
METHOD:PUBLISH
X-WR-CALNAME:New England Region Sports Car Club of America
X-ORIGINAL-URL:https://ner.org
X-WR-CALDESC:Events for New England Region Sports Car Club of America
REFRESH-INTERVAL;VALUE=DURATION:PT1H
X-Robots-Tag:noindex
X-PUBLISHED-TTL:PT1H
BEGIN:VTIMEZONE
TZID:America/New_York
BEGIN:DAYLIGHT
TZOFFSETFROM:-0500
TZOFFSETTO:-0400
TZNAME:EDT
DTSTART:20230312T070000
END:DAYLIGHT
BEGIN:STANDARD
TZOFFSETFROM:-0400
TZOFFSETTO:-0500
TZNAME:EST
DTSTART:20231105T060000
END:STANDARD
BEGIN:DAYLIGHT
TZOFFSETFROM:-0500
TZOFFSETTO:-0400
TZNAME:EDT
DTSTART:20240310T070000
END:DAYLIGHT
BEGIN:STANDARD
TZOFFSETFROM:-0400
TZOFFSETTO:-0500
TZNAME:EST
DTSTART:20241103T060000
END:STANDARD
BEGIN:DAYLIGHT
TZOFFSETFROM:-0500
TZOFFSETTO:-0400
TZNAME:EDT
DTSTART:20250309T070000
END:DAYLIGHT
BEGIN:STANDARD
TZOFFSETFROM:-0400
TZOFFSETTO:-0500
TZNAME:EST
DTSTART:20251102T060000
END:STANDARD
END:VTIMEZONE
BEGIN:VEVENT
DTSTART;VALUE=DATE:20240413
DTEND;VALUE=DATE:20240414
DTSTAMP:20260422T162045
CREATED:20240326T193354Z
LAST-MODIFIED:20240326T193354Z
UID:10000277-1712966400-1713052799@ner.org
SUMMARY:Pre-Season Tech
DESCRIPTION:MC Racing\n370 Hudson Rd\nStow\, Mass\n\nSaturday April 13\n10 AM-2 PM\n\n\nIf there are any questions\, people can call either Paul or Phil:\n\nPhil Gott\n508 414 0256\n\nPaul Messier\n860 608 7870
URL:https://ner.org/event/pre-season-tech/
CATEGORIES:Road Racing
END:VEVENT
END:VCALENDAR