BEGIN:VCALENDAR
VERSION:2.0
PRODID:-//New England Region Sports Car Club of America - ECPv6.15.20//NONSGML v1.0//EN
CALSCALE:GREGORIAN
METHOD:PUBLISH
X-WR-CALNAME:New England Region Sports Car Club of America
X-ORIGINAL-URL:https://ner.org
X-WR-CALDESC:Events for New England Region Sports Car Club of America
REFRESH-INTERVAL;VALUE=DURATION:PT1H
X-Robots-Tag:noindex
X-PUBLISHED-TTL:PT1H
BEGIN:VTIMEZONE
TZID:America/New_York
BEGIN:DAYLIGHT
TZOFFSETFROM:-0500
TZOFFSETTO:-0400
TZNAME:EDT
DTSTART:20230312T070000
END:DAYLIGHT
BEGIN:STANDARD
TZOFFSETFROM:-0400
TZOFFSETTO:-0500
TZNAME:EST
DTSTART:20231105T060000
END:STANDARD
BEGIN:DAYLIGHT
TZOFFSETFROM:-0500
TZOFFSETTO:-0400
TZNAME:EDT
DTSTART:20240310T070000
END:DAYLIGHT
BEGIN:STANDARD
TZOFFSETFROM:-0400
TZOFFSETTO:-0500
TZNAME:EST
DTSTART:20241103T060000
END:STANDARD
BEGIN:DAYLIGHT
TZOFFSETFROM:-0500
TZOFFSETTO:-0400
TZNAME:EDT
DTSTART:20250309T070000
END:DAYLIGHT
BEGIN:STANDARD
TZOFFSETFROM:-0400
TZOFFSETTO:-0500
TZNAME:EST
DTSTART:20251102T060000
END:STANDARD
END:VTIMEZONE
BEGIN:VEVENT
DTSTART;VALUE=DATE:20240907
DTEND;VALUE=DATE:20240908
DTSTAMP:20260422T173800
CREATED:20240724T232818Z
LAST-MODIFIED:20240806T194346Z
UID:10000291-1725667200-1725753599@ner.org
SUMMARY:Rally Against Leukemia 2024
DESCRIPTION:Location: Palmer Motorsports Park\, Palmer\, MA \nRegistration \nEntry Flyer: ral2024_flyer_v1a \n\n\n\nSchedule of Events (tentative) Saturday\, September 7\, 2024\n\n\n\n            8:30 am – 10:00 am\nRegistration/Odometer Check\n\n\n            2:30 p.m.\nFinish location opens\n\n\n            4:00 p.m.\nAll contestants due in at finish
URL:https://ner.org/event/rally-against-leukemia-2024/
LOCATION:Palmer Motorsports Park\, 58 W Ware Rd\, Palmer\, MA 01069\, USA
CATEGORIES:Road Rally
END:VEVENT
END:VCALENDAR